BEGIN:VCALENDAR
VERSION:2.0
PRODID:-//Claymont Lions - ECPv6.15.17.1//NONSGML v1.0//EN
CALSCALE:GREGORIAN
METHOD:PUBLISH
X-WR-CALNAME:Claymont Lions
X-ORIGINAL-URL:https://claymontlions.org
X-WR-CALDESC:Events for Claymont Lions
REFRESH-INTERVAL;VALUE=DURATION:PT1H
X-Robots-Tag:noindex
X-PUBLISHED-TTL:PT1H
BEGIN:VTIMEZONE
TZID:America/New_York
BEGIN:DAYLIGHT
TZOFFSETFROM:-0500
TZOFFSETTO:-0400
TZNAME:EDT
DTSTART:20250309T070000
END:DAYLIGHT
BEGIN:STANDARD
TZOFFSETFROM:-0400
TZOFFSETTO:-0500
TZNAME:EST
DTSTART:20251102T060000
END:STANDARD
BEGIN:DAYLIGHT
TZOFFSETFROM:-0500
TZOFFSETTO:-0400
TZNAME:EDT
DTSTART:20260308T070000
END:DAYLIGHT
BEGIN:STANDARD
TZOFFSETFROM:-0400
TZOFFSETTO:-0500
TZNAME:EST
DTSTART:20261101T060000
END:STANDARD
BEGIN:DAYLIGHT
TZOFFSETFROM:-0500
TZOFFSETTO:-0400
TZNAME:EDT
DTSTART:20270314T070000
END:DAYLIGHT
BEGIN:STANDARD
TZOFFSETFROM:-0400
TZOFFSETTO:-0500
TZNAME:EST
DTSTART:20271107T060000
END:STANDARD
END:VTIMEZONE
BEGIN:VEVENT
DTSTART;TZID=America/New_York:20260114T183000
DTEND;TZID=America/New_York:20260114T183000
DTSTAMP:20260421T213140
CREATED:20251228T170835Z
LAST-MODIFIED:20251228T170835Z
UID:808-1768415400-1768415400@claymontlions.org
SUMMARY:Dinner Meeting
DESCRIPTION:
URL:https://claymontlions.org/event/dinner-meeting-41/
END:VEVENT
BEGIN:VEVENT
DTSTART;TZID=America/New_York:20260121T190000
DTEND;TZID=America/New_York:20260121T203000
DTSTAMP:20260421T213140
CREATED:20251228T171221Z
LAST-MODIFIED:20251228T171318Z
UID:812-1769022000-1769027400@claymontlions.org
SUMMARY:Board Meeting
DESCRIPTION:
URL:https://claymontlions.org/event/dinner-meeting-42/
END:VEVENT
END:VCALENDAR