BEGIN:VCALENDAR
VERSION:2.0
PRODID:-//Claymont Lions - ECPv6.15.17.1//NONSGML v1.0//EN
CALSCALE:GREGORIAN
METHOD:PUBLISH
X-WR-CALNAME:Claymont Lions
X-ORIGINAL-URL:https://claymontlions.org
X-WR-CALDESC:Events for Claymont Lions
REFRESH-INTERVAL;VALUE=DURATION:PT1H
X-Robots-Tag:noindex
X-PUBLISHED-TTL:PT1H
BEGIN:VTIMEZONE
TZID:America/New_York
BEGIN:DAYLIGHT
TZOFFSETFROM:-0500
TZOFFSETTO:-0400
TZNAME:EDT
DTSTART:20240310T070000
END:DAYLIGHT
BEGIN:STANDARD
TZOFFSETFROM:-0400
TZOFFSETTO:-0500
TZNAME:EST
DTSTART:20241103T060000
END:STANDARD
BEGIN:DAYLIGHT
TZOFFSETFROM:-0500
TZOFFSETTO:-0400
TZNAME:EDT
DTSTART:20250309T070000
END:DAYLIGHT
BEGIN:STANDARD
TZOFFSETFROM:-0400
TZOFFSETTO:-0500
TZNAME:EST
DTSTART:20251102T060000
END:STANDARD
BEGIN:DAYLIGHT
TZOFFSETFROM:-0500
TZOFFSETTO:-0400
TZNAME:EDT
DTSTART:20260308T070000
END:DAYLIGHT
BEGIN:STANDARD
TZOFFSETFROM:-0400
TZOFFSETTO:-0500
TZNAME:EST
DTSTART:20261101T060000
END:STANDARD
END:VTIMEZONE
BEGIN:VEVENT
DTSTART;TZID=America/New_York:20251002T080000
DTEND;TZID=America/New_York:20251004T170000
DTSTAMP:20260422T020738
CREATED:20250918T204328Z
LAST-MODIFIED:20250918T204328Z
UID:755-1759392000-1759597200@claymontlions.org
SUMMARY:White Cane Days
DESCRIPTION:
URL:https://claymontlions.org/event/white-cane-days-15/
END:VEVENT
BEGIN:VEVENT
DTSTART;TZID=America/New_York:20251008T183000
DTEND;TZID=America/New_York:20251008T203000
DTSTAMP:20260422T020739
CREATED:20250918T210439Z
LAST-MODIFIED:20250918T210439Z
UID:769-1759948200-1759955400@claymontlions.org
SUMMARY:Dinner Meeting
DESCRIPTION:
URL:https://claymontlions.org/event/dinner-meeting-36/
END:VEVENT
BEGIN:VEVENT
DTSTART;TZID=America/New_York:20251015T190000
DTEND;TZID=America/New_York:20251015T203000
DTSTAMP:20260422T020739
CREATED:20250918T210512Z
LAST-MODIFIED:20250918T210512Z
UID:771-1760554800-1760560200@claymontlions.org
SUMMARY:Board Meeting
DESCRIPTION:
URL:https://claymontlions.org/event/board-meeting-21/
END:VEVENT
BEGIN:VEVENT
DTSTART;TZID=America/New_York:20251022T183000
DTEND;TZID=America/New_York:20251022T203000
DTSTAMP:20260422T020739
CREATED:20250918T210546Z
LAST-MODIFIED:20250918T210546Z
UID:773-1761157800-1761165000@claymontlions.org
SUMMARY:Dinner Meeting
DESCRIPTION:
URL:https://claymontlions.org/event/dinner-meeting-37/
END:VEVENT
BEGIN:VEVENT
DTSTART;TZID=America/New_York:20251025T073000
DTEND;TZID=America/New_York:20251025T120000
DTSTAMP:20260422T020739
CREATED:20250608T010718Z
LAST-MODIFIED:20250918T202615Z
UID:741-1761377400-1761393600@claymontlions.org
SUMMARY:Pancake Day - Claymont Fire Hall
DESCRIPTION:
URL:https://claymontlions.org/event/pancake-day-claymont-fire-hall/
END:VEVENT
END:VCALENDAR