BEGIN:VCALENDAR
VERSION:2.0
PRODID:-//Claymont Lions - ECPv6.15.17.1//NONSGML v1.0//EN
CALSCALE:GREGORIAN
METHOD:PUBLISH
X-ORIGINAL-URL:https://claymontlions.org
X-WR-CALDESC:Events for Claymont Lions
REFRESH-INTERVAL;VALUE=DURATION:PT1H
X-Robots-Tag:noindex
X-PUBLISHED-TTL:PT1H
BEGIN:VTIMEZONE
TZID:America/New_York
BEGIN:DAYLIGHT
TZOFFSETFROM:-0500
TZOFFSETTO:-0400
TZNAME:EDT
DTSTART:20220313T070000
END:DAYLIGHT
BEGIN:STANDARD
TZOFFSETFROM:-0400
TZOFFSETTO:-0500
TZNAME:EST
DTSTART:20221106T060000
END:STANDARD
BEGIN:DAYLIGHT
TZOFFSETFROM:-0500
TZOFFSETTO:-0400
TZNAME:EDT
DTSTART:20230312T070000
END:DAYLIGHT
BEGIN:STANDARD
TZOFFSETFROM:-0400
TZOFFSETTO:-0500
TZNAME:EST
DTSTART:20231105T060000
END:STANDARD
BEGIN:DAYLIGHT
TZOFFSETFROM:-0500
TZOFFSETTO:-0400
TZNAME:EDT
DTSTART:20240310T070000
END:DAYLIGHT
BEGIN:STANDARD
TZOFFSETFROM:-0400
TZOFFSETTO:-0500
TZNAME:EST
DTSTART:20241103T060000
END:STANDARD
END:VTIMEZONE
BEGIN:VEVENT
DTSTART;TZID=America/New_York:20231104T073000
DTEND;TZID=America/New_York:20231104T120000
DTSTAMP:20260420T055959
CREATED:20231014T174131Z
LAST-MODIFIED:20231014T174131Z
UID:592-1699083000-1699099200@claymontlions.org
SUMMARY:Pancake Breakfast
DESCRIPTION:
URL:https://claymontlions.org/event/pancake-breakfast/
LOCATION:Claymont Fire Hall\, 13 Lawson Rd\, Claymont\, DE\, 19703\, United States
END:VEVENT
BEGIN:VEVENT
DTSTART;TZID=America/New_York:20231115T190000
DTEND;TZID=America/New_York:20231115T190000
DTSTAMP:20260420T055959
CREATED:20231010T225334Z
LAST-MODIFIED:20231015T211203Z
UID:585-1700074800-1700074800@claymontlions.org
SUMMARY:Dinner Meeting
DESCRIPTION:
URL:https://claymontlions.org/event/board-meeting-13/
END:VEVENT
BEGIN:VEVENT
DTSTART;TZID=America/New_York:20231122T190000
DTEND;TZID=America/New_York:20231122T190000
DTSTAMP:20260420T055959
CREATED:20231010T225145Z
LAST-MODIFIED:20231015T210316Z
UID:583-1700679600-1700679600@claymontlions.org
SUMMARY:Board Meeting
DESCRIPTION:
URL:https://claymontlions.org/event/board-meeting-12/
END:VEVENT
BEGIN:VEVENT
DTSTART;TZID=America/New_York:20231124T100000
DTEND;TZID=America/New_York:20231124T100000
DTSTAMP:20260420T055959
CREATED:20220909T010300Z
LAST-MODIFIED:20231016T153413Z
UID:125-1700820000-1700820000@claymontlions.org
SUMMARY:Unloading\, Set-up\, and Opening Day of Christmas Tree Sales
DESCRIPTION:This activity begins on 11/24 and goes until sold out. Shifts will be available for you to sign up.
URL:https://claymontlions.org/event/unloading-set-up-and-opening-day-of-christmas-tree-sales/
LOCATION:Claymont Fire Co. Substation               1610 Naamans Rd\, Wilmington\, DE 19810
END:VEVENT
BEGIN:VEVENT
DTSTART;TZID=America/New_York:20231129T183000
DTEND;TZID=America/New_York:20231129T183000
DTSTAMP:20260420T055959
CREATED:20231010T223902Z
LAST-MODIFIED:20231015T210534Z
UID:572-1701282600-1701282600@claymontlions.org
SUMMARY:Dinner Meeting
DESCRIPTION:
URL:https://claymontlions.org/event/dinner-meeting-22/
END:VEVENT
END:VCALENDAR